BEGIN:VCALENDAR
VERSION:2.0
PRODID:-//The Knights of Columbus - ECPv6.15.20//NONSGML v1.0//EN
CALSCALE:GREGORIAN
METHOD:PUBLISH
X-WR-CALNAME:The Knights of Columbus
X-ORIGINAL-URL:https://thkofc541.com
X-WR-CALDESC:Events for The Knights of Columbus
REFRESH-INTERVAL;VALUE=DURATION:PT1H
X-Robots-Tag:noindex
X-PUBLISHED-TTL:PT1H
BEGIN:VTIMEZONE
TZID:America/Indiana/Indianapolis
BEGIN:DAYLIGHT
TZOFFSETFROM:-0500
TZOFFSETTO:-0400
TZNAME:EDT
DTSTART:20220313T070000
END:DAYLIGHT
BEGIN:STANDARD
TZOFFSETFROM:-0400
TZOFFSETTO:-0500
TZNAME:EST
DTSTART:20221106T060000
END:STANDARD
BEGIN:DAYLIGHT
TZOFFSETFROM:-0500
TZOFFSETTO:-0400
TZNAME:EDT
DTSTART:20230312T070000
END:DAYLIGHT
BEGIN:STANDARD
TZOFFSETFROM:-0400
TZOFFSETTO:-0500
TZNAME:EST
DTSTART:20231105T060000
END:STANDARD
BEGIN:DAYLIGHT
TZOFFSETFROM:-0500
TZOFFSETTO:-0400
TZNAME:EDT
DTSTART:20240310T070000
END:DAYLIGHT
BEGIN:STANDARD
TZOFFSETFROM:-0400
TZOFFSETTO:-0500
TZNAME:EST
DTSTART:20241103T060000
END:STANDARD
END:VTIMEZONE
BEGIN:VEVENT
DTSTART;TZID=America/Indiana/Indianapolis:20230102T190000
DTEND;TZID=America/Indiana/Indianapolis:20230102T210000
DTSTAMP:20260421T044511
CREATED:20221216T130322Z
LAST-MODIFIED:20221216T130322Z
UID:4299-1672686000-1672693200@thkofc541.com
SUMMARY:Business Meeting
DESCRIPTION:Rosary at 7 pm \nBusiness Meeting at 7:30 pm \nMeal to follow
URL:https://thkofc541.com/event/business-meeting-71/
LOCATION:St. Margaret Mary
END:VEVENT
BEGIN:VEVENT
DTSTART;TZID=America/Indiana/Indianapolis:20230104T113000
DTEND;TZID=America/Indiana/Indianapolis:20230104T123000
DTSTAMP:20260421T044511
CREATED:20221216T130540Z
LAST-MODIFIED:20221216T130540Z
UID:4303-1672831800-1672835400@thkofc541.com
SUMMARY:St. Benedict Soup Kitchen
DESCRIPTION:Help is always needed on the serving line from 11:30 am to 12:30 pm
URL:https://thkofc541.com/event/st-benedict-soup-kitchen-81/
LOCATION:St. Benedict’s\, 111 South 9th Street\, Terre Haute\, IN\, 47807\, United States
END:VEVENT
BEGIN:VEVENT
DTSTART;TZID=America/Indiana/Indianapolis:20230107T090000
DTEND;TZID=America/Indiana/Indianapolis:20230107T120000
DTSTAMP:20260421T044511
CREATED:20221216T130420Z
LAST-MODIFIED:20221216T130420Z
UID:4301-1673082000-1673092800@thkofc541.com
SUMMARY:Christmas in the Park Teardown
DESCRIPTION:
URL:https://thkofc541.com/event/christmas-in-the-park-teardown-2/
LOCATION:Deming Park
END:VEVENT
BEGIN:VEVENT
DTSTART;TZID=America/Indiana/Indianapolis:20230108T190000
DTEND;TZID=America/Indiana/Indianapolis:20231206T210000
DTSTAMP:20260421T044511
CREATED:20231206T203006Z
LAST-MODIFIED:20231206T203006Z
UID:4545-1673204400-1701896400@thkofc541.com
SUMMARY:Business Meeting
DESCRIPTION:
URL:https://thkofc541.com/event/business-meeting-81/
LOCATION:St. Margaret Mary
END:VEVENT
BEGIN:VEVENT
DTSTART;TZID=America/Indiana/Indianapolis:20230109T190000
DTEND;TZID=America/Indiana/Indianapolis:20230109T210000
DTSTAMP:20260421T044511
CREATED:20221216T130636Z
LAST-MODIFIED:20221216T130636Z
UID:4306-1673290800-1673298000@thkofc541.com
SUMMARY:4th Degree Meeting
DESCRIPTION:
URL:https://thkofc541.com/event/4th-degree-meeting-51/
LOCATION:St. Margaret Mary
END:VEVENT
BEGIN:VEVENT
DTSTART;TZID=America/Indiana/Indianapolis:20230111T113000
DTEND;TZID=America/Indiana/Indianapolis:20230111T123000
DTSTAMP:20260421T044511
CREATED:20221216T130736Z
LAST-MODIFIED:20221216T130736Z
UID:4308-1673436600-1673440200@thkofc541.com
SUMMARY:St. Benedict Soup Kitchen
DESCRIPTION:Help is always needed on the serving line from 11:30 am to 12:30 pm
URL:https://thkofc541.com/event/st-benedict-soup-kitchen-82/
LOCATION:St. Benedict’s\, 111 South 9th Street\, Terre Haute\, IN\, 47807\, United States
END:VEVENT
BEGIN:VEVENT
DTSTART;TZID=America/Indiana/Indianapolis:20230118T113000
DTEND;TZID=America/Indiana/Indianapolis:20230118T123000
DTSTAMP:20260421T044511
CREATED:20221216T130823Z
LAST-MODIFIED:20221216T130823Z
UID:4310-1674041400-1674045000@thkofc541.com
SUMMARY:St. Benedict Soup Kitchen
DESCRIPTION:Help is always needed on the serving line from 11:30 am to 12:30 pm
URL:https://thkofc541.com/event/st-benedict-soup-kitchen-83/
LOCATION:St. Benedict’s\, 111 South 9th Street\, Terre Haute\, IN\, 47807\, United States
END:VEVENT
BEGIN:VEVENT
DTSTART;TZID=America/Indiana/Indianapolis:20230125T113000
DTEND;TZID=America/Indiana/Indianapolis:20230125T123000
DTSTAMP:20260421T044511
CREATED:20221216T130915Z
LAST-MODIFIED:20221216T130915Z
UID:4312-1674646200-1674649800@thkofc541.com
SUMMARY:St. Benedict Soup Kitchen
DESCRIPTION:Help is always needed on the serving line from 11:30 am to 12:30 pm
URL:https://thkofc541.com/event/st-benedict-soup-kitchen-84/
LOCATION:St. Benedict’s\, 111 South 9th Street\, Terre Haute\, IN\, 47807\, United States
END:VEVENT
BEGIN:VEVENT
DTSTART;TZID=America/Indiana/Indianapolis:20230128T083000
DTEND;TZID=America/Indiana/Indianapolis:20230128T090000
DTSTAMP:20260421T044511
CREATED:20230119T155531Z
LAST-MODIFIED:20230120T213252Z
UID:4373-1674894600-1674896400@thkofc541.com
SUMMARY:Gibault Free Throw Contest
DESCRIPTION:
URL:https://thkofc541.com/event/gibault-free-throw-contest-2/
LOCATION:Gibault – Holy Cross Gym
END:VEVENT
END:VCALENDAR