BEGIN:VCALENDAR
VERSION:2.0
PRODID:-//The Knights of Columbus - ECPv6.15.20//NONSGML v1.0//EN
CALSCALE:GREGORIAN
METHOD:PUBLISH
X-WR-CALNAME:The Knights of Columbus
X-ORIGINAL-URL:https://thkofc541.com
X-WR-CALDESC:Events for The Knights of Columbus
REFRESH-INTERVAL;VALUE=DURATION:PT1H
X-Robots-Tag:noindex
X-PUBLISHED-TTL:PT1H
BEGIN:VTIMEZONE
TZID:America/Indiana/Indianapolis
BEGIN:DAYLIGHT
TZOFFSETFROM:-0500
TZOFFSETTO:-0400
TZNAME:EDT
DTSTART:20200308T070000
END:DAYLIGHT
BEGIN:STANDARD
TZOFFSETFROM:-0400
TZOFFSETTO:-0500
TZNAME:EST
DTSTART:20201101T060000
END:STANDARD
BEGIN:DAYLIGHT
TZOFFSETFROM:-0500
TZOFFSETTO:-0400
TZNAME:EDT
DTSTART:20210314T070000
END:DAYLIGHT
BEGIN:STANDARD
TZOFFSETFROM:-0400
TZOFFSETTO:-0500
TZNAME:EST
DTSTART:20211107T060000
END:STANDARD
BEGIN:DAYLIGHT
TZOFFSETFROM:-0500
TZOFFSETTO:-0400
TZNAME:EDT
DTSTART:20220313T070000
END:DAYLIGHT
BEGIN:STANDARD
TZOFFSETFROM:-0400
TZOFFSETTO:-0500
TZNAME:EST
DTSTART:20221106T060000
END:STANDARD
END:VTIMEZONE
BEGIN:VEVENT
DTSTART;TZID=America/Indiana/Indianapolis:20211101T190000
DTEND;TZID=America/Indiana/Indianapolis:20211101T210000
DTSTAMP:20260423T074308
CREATED:20211012T144034Z
LAST-MODIFIED:20211012T144034Z
UID:3880-1635793200-1635800400@thkofc541.com
SUMMARY:Business Meeting
DESCRIPTION:Rosary – 7 pm \nBusiness Meeting – 7:30 pm followed by food
URL:https://thkofc541.com/event/business-meeting-59/
LOCATION:St. Joseph University Parish
END:VEVENT
BEGIN:VEVENT
DTSTART;TZID=America/Indiana/Indianapolis:20211102T190000
DTEND;TZID=America/Indiana/Indianapolis:20211102T200000
DTSTAMP:20260423T074308
CREATED:20211012T143730Z
LAST-MODIFIED:20211012T143730Z
UID:3876-1635879600-1635883200@thkofc541.com
SUMMARY:Mass of Remembrance - St. Benedict
DESCRIPTION:4th Degree Knights are needed to escort families at the Mass of Remembrance on Tuesday\, November 2nd at St. Benedict Parish. Dress is either tuxedo or dark suit\, social baldric and white gloves.
URL:https://thkofc541.com/event/mass-of-remembrance-st-benedict/
LOCATION:St. Benedict’s\, 111 South 9th Street\, Terre Haute\, IN\, 47807\, United States
END:VEVENT
BEGIN:VEVENT
DTSTART;TZID=America/Indiana/Indianapolis:20211102T190000
DTEND;TZID=America/Indiana/Indianapolis:20211102T200000
DTSTAMP:20260423T074308
CREATED:20211012T143830Z
LAST-MODIFIED:20211012T143830Z
UID:3878-1635879600-1635883200@thkofc541.com
SUMMARY:Mass of Remembrance - St. Joseph University Parish
DESCRIPTION:4th Degree Knights are needed to escort families at the Mass of Remembrance on Tuesday\, November 2nd at St. Joseph University Parish. Dress is either tuxedo or dark suit\, social baldric and white gloves.
URL:https://thkofc541.com/event/mass-of-remembrance-st-joseph-university-parish/
LOCATION:St. Joseph University Parish
END:VEVENT
BEGIN:VEVENT
DTSTART;TZID=America/Indiana/Indianapolis:20211103T113000
DTEND;TZID=America/Indiana/Indianapolis:20211103T123000
DTSTAMP:20260423T074308
CREATED:20211012T144135Z
LAST-MODIFIED:20211012T144135Z
UID:3882-1635939000-1635942600@thkofc541.com
SUMMARY:St. Benedict Soup Kitchen
DESCRIPTION:
URL:https://thkofc541.com/event/st-benedict-soup-kitchen-26/
LOCATION:St. Benedict’s\, 111 South 9th Street\, Terre Haute\, IN\, 47807\, United States
END:VEVENT
BEGIN:VEVENT
DTSTART;TZID=America/Indiana/Indianapolis:20211108T190000
DTEND;TZID=America/Indiana/Indianapolis:20211108T200000
DTSTAMP:20260423T074308
CREATED:20211102T131038Z
LAST-MODIFIED:20211102T131038Z
UID:3901-1636398000-1636401600@thkofc541.com
SUMMARY:4th Degree Meeting
DESCRIPTION:7 pm at St. Joseph University Parish DJV room in the school building.
URL:https://thkofc541.com/event/4th-degree-meeting-43/
LOCATION:St. Joseph University Parish
END:VEVENT
BEGIN:VEVENT
DTSTART;TZID=America/Indiana/Indianapolis:20211110T100000
DTEND;TZID=America/Indiana/Indianapolis:20211110T103000
DTSTAMP:20260423T074308
CREATED:20211012T144710Z
LAST-MODIFIED:20211102T130804Z
UID:3890-1636538400-1636540200@thkofc541.com
SUMMARY:Coats for Kids Final Pickup
DESCRIPTION:Pickup barrels and signage and any remaining coats from the collection locations.
URL:https://thkofc541.com/event/coats-for-kids-final-pickup/
END:VEVENT
BEGIN:VEVENT
DTSTART;TZID=America/Indiana/Indianapolis:20211110T113000
DTEND;TZID=America/Indiana/Indianapolis:20211110T123000
DTSTAMP:20260423T074308
CREATED:20211012T144218Z
LAST-MODIFIED:20211012T144218Z
UID:3884-1636543800-1636547400@thkofc541.com
SUMMARY:St. Benedict Soup Kitchen
DESCRIPTION:
URL:https://thkofc541.com/event/st-benedict-soup-kitchen-27/
LOCATION:St. Benedict’s\, 111 South 9th Street\, Terre Haute\, IN\, 47807\, United States
END:VEVENT
BEGIN:VEVENT
DTSTART;TZID=America/Indiana/Indianapolis:20211115T120000
DTEND;TZID=America/Indiana/Indianapolis:20211115T150000
DTSTAMP:20260423T074308
CREATED:20211013T173356Z
LAST-MODIFIED:20211102T130654Z
UID:3895-1636977600-1636988400@thkofc541.com
SUMMARY:Share Your Thanksgiving Barrel Pickup
DESCRIPTION:We’ll be helping Catholic Charities again this year with the Share Your Thanksgiving food drive. Barrels will be placed out on Thursday\, October 28th and picked up on Monday\, November 15th. Those who are able to place or pickup barrels please meet at Catholic Charities FoodBank at 12 noon on the drop off day and at 8 am on the pick up day.
URL:https://thkofc541.com/event/share-your-thanksgiving-barrel-pickup-3/
LOCATION:Catholic Charities\, 14th & Locust\, Terre Haute
END:VEVENT
BEGIN:VEVENT
DTSTART;TZID=America/Indiana/Indianapolis:20211117T113000
DTEND;TZID=America/Indiana/Indianapolis:20211117T123000
DTSTAMP:20260423T074308
CREATED:20211012T144303Z
LAST-MODIFIED:20211012T144303Z
UID:3886-1637148600-1637152200@thkofc541.com
SUMMARY:St. Benedict Soup Kitchen
DESCRIPTION:
URL:https://thkofc541.com/event/st-benedict-soup-kitchen-28/
LOCATION:St. Benedict’s\, 111 South 9th Street\, Terre Haute\, IN\, 47807\, United States
END:VEVENT
BEGIN:VEVENT
DTSTART;TZID=America/Indiana/Indianapolis:20211122T190000
DTEND;TZID=America/Indiana/Indianapolis:20211122T210000
DTSTAMP:20260423T074308
CREATED:20211102T130930Z
LAST-MODIFIED:20211102T130930Z
UID:3899-1637607600-1637614800@thkofc541.com
SUMMARY:Gibault Christmas Shopping
DESCRIPTION:Join us at Walmart South on the 22nd as we do the annual Christmas shopping for the children at Gibault.
URL:https://thkofc541.com/event/gibault-christmas-shopping/
LOCATION:Walmart South
END:VEVENT
BEGIN:VEVENT
DTSTART;TZID=America/Indiana/Indianapolis:20211124T113000
DTEND;TZID=America/Indiana/Indianapolis:20211124T123000
DTSTAMP:20260423T074308
CREATED:20211012T144351Z
LAST-MODIFIED:20211012T144351Z
UID:3888-1637753400-1637757000@thkofc541.com
SUMMARY:St. Benedict Soup Kitchen
DESCRIPTION:
URL:https://thkofc541.com/event/st-benedict-soup-kitchen-29/
LOCATION:St. Benedict’s\, 111 South 9th Street\, Terre Haute\, IN\, 47807\, United States
END:VEVENT
BEGIN:VEVENT
DTSTART;TZID=America/Indiana/Indianapolis:20211127T090000
DTEND;TZID=America/Indiana/Indianapolis:20211127T120000
DTSTAMP:20260423T074308
CREATED:20211114T224617Z
LAST-MODIFIED:20211114T224617Z
UID:3904-1638003600-1638014400@thkofc541.com
SUMMARY:Christmas in the Park Setup
DESCRIPTION:Please come and help with our annual Christmas in the Park display setup. \nMeet at 9 am at 2001 N. Hunt Street (around backside off of Old Maple Avenue) to load and setup at Deming Park will begin around 10 am.
URL:https://thkofc541.com/event/christmas-in-the-park-setup-5/
LOCATION:Deming Park
END:VEVENT
BEGIN:VEVENT
DTSTART;TZID=America/Indiana/Indianapolis:20211130T170000
DTEND;TZID=America/Indiana/Indianapolis:20211130T170000
DTSTAMP:20260423T074308
CREATED:20211012T143407Z
LAST-MODIFIED:20211012T143407Z
UID:3871-1638291600-1638291600@thkofc541.com
SUMMARY:Hats from the Heart Campaign Ends
DESCRIPTION:
URL:https://thkofc541.com/event/hats-from-the-heart-campaign-ends/
LOCATION:Speaker Fulfillment Services & St. Joseph University Parish\, 2001 N. Hunt Street\, Terre Haute\, 47805\, United States
END:VEVENT
END:VCALENDAR