BEGIN:VCALENDAR
VERSION:2.0
PRODID:-//The Knights of Columbus - ECPv6.15.20//NONSGML v1.0//EN
CALSCALE:GREGORIAN
METHOD:PUBLISH
X-WR-CALNAME:The Knights of Columbus
X-ORIGINAL-URL:https://thkofc541.com
X-WR-CALDESC:Events for The Knights of Columbus
REFRESH-INTERVAL;VALUE=DURATION:PT1H
X-Robots-Tag:noindex
X-PUBLISHED-TTL:PT1H
BEGIN:VTIMEZONE
TZID:America/Indiana/Indianapolis
BEGIN:DAYLIGHT
TZOFFSETFROM:-0500
TZOFFSETTO:-0400
TZNAME:EDT
DTSTART:20200308T070000
END:DAYLIGHT
BEGIN:STANDARD
TZOFFSETFROM:-0400
TZOFFSETTO:-0500
TZNAME:EST
DTSTART:20201101T060000
END:STANDARD
BEGIN:DAYLIGHT
TZOFFSETFROM:-0500
TZOFFSETTO:-0400
TZNAME:EDT
DTSTART:20210314T070000
END:DAYLIGHT
BEGIN:STANDARD
TZOFFSETFROM:-0400
TZOFFSETTO:-0500
TZNAME:EST
DTSTART:20211107T060000
END:STANDARD
BEGIN:DAYLIGHT
TZOFFSETFROM:-0500
TZOFFSETTO:-0400
TZNAME:EDT
DTSTART:20220313T070000
END:DAYLIGHT
BEGIN:STANDARD
TZOFFSETFROM:-0400
TZOFFSETTO:-0500
TZNAME:EST
DTSTART:20221106T060000
END:STANDARD
END:VTIMEZONE
BEGIN:VEVENT
DTSTART;TZID=America/Indiana/Indianapolis:20211003T140000
DTEND;TZID=America/Indiana/Indianapolis:20211003T153000
DTSTAMP:20260423T074214
CREATED:20210830T123358Z
LAST-MODIFIED:20210830T123358Z
UID:3835-1633269600-1633275000@thkofc541.com
SUMMARY:Terre Haute Life Chain
DESCRIPTION:Join the 34th NATIONAL LIFE CHAIN! \n Stand with thousands of pro-lifers throughout the USA!\nYou’ll be a light in a darkened world as you help put an end to abortion through prayer! \n Bring your whole family! Rain or shine! \n Water\, lawn chairs\, umbrellas and strollers are welcome! \n Signs proclaim “Abortion Kills Children\,” “Adoption the Loving Option\,” “Jesus Forgives & Heals\,” “Lord\, Forgive Us and Our Nation\,” “Abortion Hurts Women\,” “El Aborto Mata Ninos\,” “Life – the first Inalienable Right” and “Pray to End Abortion” \n Meet and Park behind Vigo County Court House. \n Stand 25-30 feet apart. Do not park in front of an open business. See www.LifeChain.org for approximately 2000 locations in 1600 cities and towns across the United States and Canada.
URL:https://thkofc541.com/event/terre-haute-life-chain-2/
LOCATION:Vigo County Courthouse
END:VEVENT
BEGIN:VEVENT
DTSTART;TZID=America/Indiana/Indianapolis:20211004T190000
DTEND;TZID=America/Indiana/Indianapolis:20211004T210000
DTSTAMP:20260423T074214
CREATED:20210830T124203Z
LAST-MODIFIED:20210830T124203Z
UID:3847-1633374000-1633381200@thkofc541.com
SUMMARY:Business Meeting
DESCRIPTION:Rosary at 7 pm\, Business meeting at 7:30. Food to follow.
URL:https://thkofc541.com/event/business-meeting-58/
LOCATION:St. Joseph University Parish
END:VEVENT
BEGIN:VEVENT
DTSTART;TZID=America/Indiana/Indianapolis:20211006T113000
DTEND;TZID=America/Indiana/Indianapolis:20211006T123000
DTSTAMP:20260423T074214
CREATED:20210830T123839Z
LAST-MODIFIED:20210830T123839Z
UID:3839-1633519800-1633523400@thkofc541.com
SUMMARY:St. Benedict Soup Kitchen
DESCRIPTION:Help is needed on the serving line every Wednesday from 11:30 am to 12:30 pm.
URL:https://thkofc541.com/event/st-benedict-soup-kitchen-22/
LOCATION:St. Benedict’s\, 111 South 9th Street\, Terre Haute\, IN\, 47807\, United States
END:VEVENT
BEGIN:VEVENT
DTSTART;TZID=America/Indiana/Indianapolis:20211008T120000
DTEND;TZID=America/Indiana/Indianapolis:20211008T130000
DTSTAMP:20260423T074214
CREATED:20211005T145709Z
LAST-MODIFIED:20211005T145709Z
UID:3863-1633694400-1633698000@thkofc541.com
SUMMARY:Coats for Kids Barrel Placement
DESCRIPTION:For those helping with the barrel distribution for the annual Coats for Kids drive please meet at 12:00 noon at the Christmas Store on Locust Street.
URL:https://thkofc541.com/event/coats-for-kids-barrel-placement/
LOCATION:Catholic Charities Christmas Store – Locust Street
END:VEVENT
BEGIN:VEVENT
DTSTART;TZID=America/Indiana/Indianapolis:20211011T190000
DTEND;TZID=America/Indiana/Indianapolis:20211011T200000
DTSTAMP:20260423T074214
CREATED:20211005T145523Z
LAST-MODIFIED:20211005T145523Z
UID:3861-1633978800-1633982400@thkofc541.com
SUMMARY:4th Degree Meeting
DESCRIPTION:4th Degree meeting will be held Monday\, October 11th beginning at 7 pm. \nWe will be meeting in the Mother Theodore room which is on the 2nd floor of the school building at St. Joseph University Parish.
URL:https://thkofc541.com/event/4th-degree-meeting-41/
LOCATION:St. Joseph University Parish
END:VEVENT
BEGIN:VEVENT
DTSTART;TZID=America/Indiana/Indianapolis:20211012T183000
DTEND;TZID=America/Indiana/Indianapolis:20211012T210000
DTSTAMP:20260423T074214
CREATED:20211005T145827Z
LAST-MODIFIED:20211005T145849Z
UID:3865-1634063400-1634072400@thkofc541.com
SUMMARY:Crisis Pregnancy Center Fundraising Dinner
DESCRIPTION:
URL:https://thkofc541.com/event/crisis-pregnancy-center-fundraising-dinner/
LOCATION:Hulman Center
END:VEVENT
BEGIN:VEVENT
DTSTART;TZID=America/Indiana/Indianapolis:20211013T113000
DTEND;TZID=America/Indiana/Indianapolis:20211013T123000
DTSTAMP:20260423T074214
CREATED:20210830T123921Z
LAST-MODIFIED:20210830T123921Z
UID:3841-1634124600-1634128200@thkofc541.com
SUMMARY:St. Benedict Soup Kitchen
DESCRIPTION:Help is needed on the serving line every Wednesday from 11:30 am to 12:30 pm.
URL:https://thkofc541.com/event/st-benedict-soup-kitchen-23/
LOCATION:St. Benedict’s\, 111 South 9th Street\, Terre Haute\, IN\, 47807\, United States
END:VEVENT
BEGIN:VEVENT
DTSTART;TZID=America/Indiana/Indianapolis:20211013T193000
DTEND;TZID=America/Indiana/Indianapolis:20211013T203000
DTSTAMP:20260423T074214
CREATED:20211011T174554Z
LAST-MODIFIED:20211011T174554Z
UID:3867-1634153400-1634157000@thkofc541.com
SUMMARY:Virtual Fraternal Benefits Night
DESCRIPTION:Brother Knights; \nThe state is hosting a Virtual Fraternal Benefits Night on October 13th. If you’re not fully aware of all the benefits available to you as a member of the Knights of Columbus I’d encourage you to attend. \nThe event is reported to be almost completely full and they’re putting out a last chance to register. \nThis event will be beneficial to understand how KofC can help members in any circumstances. \nGod Bless and have a wonderful day! \nDate: October 13th 7:30PM Eastern/6:30PM Central \nRegistration Link: http://bit.ly/VanMueller
URL:https://thkofc541.com/event/virtual-fraternal-benefits-night/
LOCATION:Online
END:VEVENT
BEGIN:VEVENT
DTSTART;TZID=America/Indiana/Indianapolis:20211015T080000
DTEND;TZID=America/Indiana/Indianapolis:20211015T080000
DTSTAMP:20260423T074214
CREATED:20211012T143311Z
LAST-MODIFIED:20211012T143311Z
UID:3869-1634284800-1634284800@thkofc541.com
SUMMARY:Hats from the Heart Campaign Begins
DESCRIPTION:Again this year the Knights will be sponsoring a campaign designed to provide hats for children and the homeless to help them through the winter. The program will begin Friday\, October 15th and run through Tuesday\, November 30th. Donations can be dropped off at St. Joseph University Parish\, 113 South 5th Street or at Grand Knight Bret Ridgway’s office at 2001 N. Hunt Street. \nIf you’re a knitter or know a knitter encourage them to knit a hat or two to go to those in need.
URL:https://thkofc541.com/event/hats-from-the-heart-campaign-begins/
LOCATION:Speaker Fulfillment Services & St. Joseph University Parish\, 2001 N. Hunt Street\, Terre Haute\, 47805\, United States
END:VEVENT
BEGIN:VEVENT
DTSTART;TZID=America/Indiana/Indianapolis:20211020T113000
DTEND;TZID=America/Indiana/Indianapolis:20211020T123000
DTSTAMP:20260423T074214
CREATED:20210830T124010Z
LAST-MODIFIED:20210830T124010Z
UID:3843-1634729400-1634733000@thkofc541.com
SUMMARY:St. Benedict Soup Kitchen
DESCRIPTION:Help is needed on the serving line every Wednesday from 11:30 am to 12:30 pm.
URL:https://thkofc541.com/event/st-benedict-soup-kitchen-24/
LOCATION:St. Benedict’s\, 111 South 9th Street\, Terre Haute\, IN\, 47807\, United States
END:VEVENT
BEGIN:VEVENT
DTSTART;TZID=America/Indiana/Indianapolis:20211027T113000
DTEND;TZID=America/Indiana/Indianapolis:20211027T123000
DTSTAMP:20260423T074214
CREATED:20210830T124055Z
LAST-MODIFIED:20210830T124055Z
UID:3845-1635334200-1635337800@thkofc541.com
SUMMARY:St. Benedict Soup Kitchen
DESCRIPTION:Help is needed on the serving line every Wednesday from 11:30 am to 12:30 pm.
URL:https://thkofc541.com/event/st-benedict-soup-kitchen-25/
LOCATION:St. Benedict’s\, 111 South 9th Street\, Terre Haute\, IN\, 47807\, United States
END:VEVENT
BEGIN:VEVENT
DTSTART;TZID=America/Indiana/Indianapolis:20211028T120000
DTEND;TZID=America/Indiana/Indianapolis:20211028T140000
DTSTAMP:20260423T074214
CREATED:20211013T173313Z
LAST-MODIFIED:20211013T173313Z
UID:3893-1635422400-1635429600@thkofc541.com
SUMMARY:Share Your Thanksgiving Barrel Placement
DESCRIPTION:We’ll be helping Catholic Charities again this year with the Share Your Thanksgiving food drive. Barrels will be placed out on Thursday\, October 28th and picked up on Friday\, November 12th. Those who are able to place or pickup barrels please meet at Catholic Charities FoodBank at 12 noon on the drop off or pick up day.
URL:https://thkofc541.com/event/share-your-thanksgiving-barrel-placement/
LOCATION:Catholic Charities\, 14th & Locust\, Terre Haute
END:VEVENT
END:VCALENDAR