BEGIN:VCALENDAR
VERSION:2.0
PRODID:-//The Knights of Columbus - ECPv6.15.20//NONSGML v1.0//EN
CALSCALE:GREGORIAN
METHOD:PUBLISH
X-ORIGINAL-URL:https://thkofc541.com
X-WR-CALDESC:Events for The Knights of Columbus
REFRESH-INTERVAL;VALUE=DURATION:PT1H
X-Robots-Tag:noindex
X-PUBLISHED-TTL:PT1H
BEGIN:VTIMEZONE
TZID:America/Indiana/Indianapolis
BEGIN:DAYLIGHT
TZOFFSETFROM:-0500
TZOFFSETTO:-0400
TZNAME:EDT
DTSTART:20200308T070000
END:DAYLIGHT
BEGIN:STANDARD
TZOFFSETFROM:-0400
TZOFFSETTO:-0500
TZNAME:EST
DTSTART:20201101T060000
END:STANDARD
BEGIN:DAYLIGHT
TZOFFSETFROM:-0500
TZOFFSETTO:-0400
TZNAME:EDT
DTSTART:20210314T070000
END:DAYLIGHT
BEGIN:STANDARD
TZOFFSETFROM:-0400
TZOFFSETTO:-0500
TZNAME:EST
DTSTART:20211107T060000
END:STANDARD
BEGIN:DAYLIGHT
TZOFFSETFROM:-0500
TZOFFSETTO:-0400
TZNAME:EDT
DTSTART:20220313T070000
END:DAYLIGHT
BEGIN:STANDARD
TZOFFSETFROM:-0400
TZOFFSETTO:-0500
TZNAME:EST
DTSTART:20221106T060000
END:STANDARD
END:VTIMEZONE
BEGIN:VEVENT
DTSTART;TZID=America/Indiana/Indianapolis:20210705T190000
DTEND;TZID=America/Indiana/Indianapolis:20210705T210000
DTSTAMP:20260423T122944
CREATED:20210706T172102Z
LAST-MODIFIED:20210706T172102Z
UID:3789-1625511600-1625518800@thkofc541.com
SUMMARY:Business Meeting
DESCRIPTION:Rosary at 7 pm\, Business Meeting at 7:30 pm.
URL:https://thkofc541.com/event/business-meeting-55/
LOCATION:St. Margaret Mary
END:VEVENT
BEGIN:VEVENT
DTSTART;TZID=America/Indiana/Indianapolis:20210707T113000
DTEND;TZID=America/Indiana/Indianapolis:20210707T123000
DTSTAMP:20260423T122944
CREATED:20210706T171218Z
LAST-MODIFIED:20210706T171218Z
UID:3777-1625657400-1625661000@thkofc541.com
SUMMARY:St. Benedict Soup Kitchen
DESCRIPTION:Help is always needed at the St. Ben Soup Kitchen for the serving line from 11:30 am – 12:30 pm.
URL:https://thkofc541.com/event/st-benedict-soup-kitchen-9/
LOCATION:St. Benedict’s\, 111 South 9th Street\, Terre Haute\, IN\, 47807\, United States
END:VEVENT
BEGIN:VEVENT
DTSTART;TZID=America/Indiana/Indianapolis:20210712T190000
DTEND;TZID=America/Indiana/Indianapolis:20210712T200000
DTSTAMP:20260423T122944
CREATED:20210706T172222Z
LAST-MODIFIED:20210706T172222Z
UID:3791-1626116400-1626120000@thkofc541.com
SUMMARY:4th Degree Meeting
DESCRIPTION:
URL:https://thkofc541.com/event/4th-degree-meeting-40/
LOCATION:St. Margaret Mary
END:VEVENT
BEGIN:VEVENT
DTSTART;TZID=America/Indiana/Indianapolis:20210714T113000
DTEND;TZID=America/Indiana/Indianapolis:20210714T123000
DTSTAMP:20260423T122944
CREATED:20210706T171306Z
LAST-MODIFIED:20210706T171306Z
UID:3779-1626262200-1626265800@thkofc541.com
SUMMARY:St. Benedict Soup Kitchen
DESCRIPTION:Help is always needed at the St. Ben Soup Kitchen for the serving line from 11:30 am – 12:30 pm.
URL:https://thkofc541.com/event/st-benedict-soup-kitchen-10/
LOCATION:St. Benedict’s\, 111 South 9th Street\, Terre Haute\, IN\, 47807\, United States
END:VEVENT
BEGIN:VEVENT
DTSTART;TZID=America/Indiana/Indianapolis:20210717T120000
DTEND;TZID=America/Indiana/Indianapolis:20210717T210000
DTSTAMP:20260423T122944
CREATED:20210706T171906Z
LAST-MODIFIED:20210706T171906Z
UID:3787-1626523200-1626555600@thkofc541.com
SUMMARY:Food Stock 2021
DESCRIPTION:The Knights will be providing food service for this fundraiser for the Catholic Charities Food Bank.. \nEvent will be held at the American Legion post at 25th & Fort Harrison. Knights will be needed to help with setup\, cooking\, serving\, cashier\, etc.
URL:https://thkofc541.com/event/food-stock-2021/
LOCATION:American Legion Post – Fort Harrison Road
END:VEVENT
BEGIN:VEVENT
DTSTART;TZID=America/Indiana/Indianapolis:20210721T113000
DTEND;TZID=America/Indiana/Indianapolis:20210721T123000
DTSTAMP:20260423T122944
CREATED:20210706T171346Z
LAST-MODIFIED:20210706T171346Z
UID:3781-1626867000-1626870600@thkofc541.com
SUMMARY:St. Benedict Soup Kitchen
DESCRIPTION:Help is always needed at the St. Ben Soup Kitchen for the serving line from 11:30 am – 12:30 pm.
URL:https://thkofc541.com/event/st-benedict-soup-kitchen-11/
LOCATION:St. Benedict’s\, 111 South 9th Street\, Terre Haute\, IN\, 47807\, United States
END:VEVENT
BEGIN:VEVENT
DTSTART;TZID=America/Indiana/Indianapolis:20210721T130000
DTEND;TZID=America/Indiana/Indianapolis:20210721T150000
DTSTAMP:20260423T122944
CREATED:20210706T171641Z
LAST-MODIFIED:20210706T171641Z
UID:3785-1626872400-1626879600@thkofc541.com
SUMMARY:Sock and Underwear Drive Barrel Put Out
DESCRIPTION:The annual Catholic Charities Sock and Underwear drive begins this week and we will be helping place the barrels at the various locations on Wednesday\, July 21st. Meet at the Catholic Charities Food Bank on N. 14-1/2 Street at 1 pm if you are able to help.
URL:https://thkofc541.com/event/sock-and-underwear-drive-barrel-put-out/
LOCATION:Catholic Charities\, 14th & Locust\, Terre Haute
END:VEVENT
BEGIN:VEVENT
DTSTART;TZID=America/Indiana/Indianapolis:20210724T083000
DTEND;TZID=America/Indiana/Indianapolis:20210724T120000
DTSTAMP:20260423T122944
CREATED:20210709T124642Z
LAST-MODIFIED:20210709T124642Z
UID:3794-1627115400-1627128000@thkofc541.com
SUMMARY:Meals on Wheels New Home Cleanup
DESCRIPTION:Come help with clean up and beautification at Terre Haute Area Meals on Wheels!  Volunteers will help remove evergreens from the front of the building and replace with Hostas and rock as well as level grassy areas around the building and fill those areas with rock.  Volunteers will also help paint the building’s meeting area\, move shelving and install base molding around walls\, dust canned goods in the storage room\, seal the parking lot with driveway sealer\, and paint new lines on the parking lots.  Plastic gloves will be provided.  Volunteers are encouraged to bring their own gloves if they would like thicker gloves\, as well as bring a head covering\, shovels\, and a paint brush for trim. \nLocation is 1621 S. 25th Street in Terre Haute. A free breakfast is available at Maryland Community Church from 7:45 to 8:30 prior to the project for all volunteers.
URL:https://thkofc541.com/event/meals-on-wheels-new-home-cleanup/
END:VEVENT
BEGIN:VEVENT
DTSTART;TZID=America/Indiana/Indianapolis:20210728T113000
DTEND;TZID=America/Indiana/Indianapolis:20210728T123000
DTSTAMP:20260423T122944
CREATED:20210706T171430Z
LAST-MODIFIED:20210706T171430Z
UID:3783-1627471800-1627475400@thkofc541.com
SUMMARY:St. Benedict Soup Kitchen
DESCRIPTION:Help is always needed at the St. Ben Soup Kitchen for the serving line from 11:30 am – 12:30 pm.
URL:https://thkofc541.com/event/st-benedict-soup-kitchen-12/
LOCATION:St. Benedict’s\, 111 South 9th Street\, Terre Haute\, IN\, 47807\, United States
END:VEVENT
END:VCALENDAR