BEGIN:VCALENDAR
VERSION:2.0
PRODID:-//The Knights of Columbus - ECPv6.15.20//NONSGML v1.0//EN
CALSCALE:GREGORIAN
METHOD:PUBLISH
X-WR-CALNAME:The Knights of Columbus
X-ORIGINAL-URL:https://thkofc541.com
X-WR-CALDESC:Events for The Knights of Columbus
REFRESH-INTERVAL;VALUE=DURATION:PT1H
X-Robots-Tag:noindex
X-PUBLISHED-TTL:PT1H
BEGIN:VTIMEZONE
TZID:America/Indiana/Indianapolis
BEGIN:DAYLIGHT
TZOFFSETFROM:-0500
TZOFFSETTO:-0400
TZNAME:EDT
DTSTART:20210314T070000
END:DAYLIGHT
BEGIN:STANDARD
TZOFFSETFROM:-0400
TZOFFSETTO:-0500
TZNAME:EST
DTSTART:20211107T060000
END:STANDARD
BEGIN:DAYLIGHT
TZOFFSETFROM:-0500
TZOFFSETTO:-0400
TZNAME:EDT
DTSTART:20220313T070000
END:DAYLIGHT
BEGIN:STANDARD
TZOFFSETFROM:-0400
TZOFFSETTO:-0500
TZNAME:EST
DTSTART:20221106T060000
END:STANDARD
BEGIN:DAYLIGHT
TZOFFSETFROM:-0500
TZOFFSETTO:-0400
TZNAME:EDT
DTSTART:20230312T070000
END:DAYLIGHT
BEGIN:STANDARD
TZOFFSETFROM:-0400
TZOFFSETTO:-0500
TZNAME:EST
DTSTART:20231105T060000
END:STANDARD
END:VTIMEZONE
BEGIN:VEVENT
DTSTART;TZID=America/Indiana/Indianapolis:20221214T080000
DTEND;TZID=America/Indiana/Indianapolis:20221214T090000
DTSTAMP:20260421T130931
CREATED:20221208T131311Z
LAST-MODIFIED:20221208T131311Z
UID:4291-1671004800-1671008400@thkofc541.com
SUMMARY:Covenant Network Radiothon
DESCRIPTION:Knights Bob Flott and Bret Ridgway will be guest hosts of an hour of the Covenant Network’s Annual Radiothon on Wednesday\, December 14th from 8 am to 9 am.
URL:https://thkofc541.com/event/covenant-network-radiothon/
LOCATION:91.9 FM
END:VEVENT
BEGIN:VEVENT
DTSTART;TZID=America/Indiana/Indianapolis:20221214T113000
DTEND;TZID=America/Indiana/Indianapolis:20221214T123000
DTSTAMP:20260421T130931
CREATED:20221128T170332Z
LAST-MODIFIED:20221128T170332Z
UID:4276-1671017400-1671021000@thkofc541.com
SUMMARY:St. Benedict Soup Kitchen
DESCRIPTION:Help always needed on the serving line from 11:30 am to 12:30 pm
URL:https://thkofc541.com/event/st-benedict-soup-kitchen-78/
LOCATION:St. Benedict’s\, 111 South 9th Street\, Terre Haute\, IN\, 47807\, United States
END:VEVENT
END:VCALENDAR