BEGIN:VCALENDAR
VERSION:2.0
PRODID:-//The Knights of Columbus - ECPv6.15.20//NONSGML v1.0//EN
CALSCALE:GREGORIAN
METHOD:PUBLISH
X-WR-CALNAME:The Knights of Columbus
X-ORIGINAL-URL:https://thkofc541.com
X-WR-CALDESC:Events for The Knights of Columbus
REFRESH-INTERVAL;VALUE=DURATION:PT1H
X-Robots-Tag:noindex
X-PUBLISHED-TTL:PT1H
BEGIN:VTIMEZONE
TZID:America/Indiana/Indianapolis
BEGIN:DAYLIGHT
TZOFFSETFROM:-0500
TZOFFSETTO:-0400
TZNAME:EDT
DTSTART:20210314T070000
END:DAYLIGHT
BEGIN:STANDARD
TZOFFSETFROM:-0400
TZOFFSETTO:-0500
TZNAME:EST
DTSTART:20211107T060000
END:STANDARD
BEGIN:DAYLIGHT
TZOFFSETFROM:-0500
TZOFFSETTO:-0400
TZNAME:EDT
DTSTART:20220313T070000
END:DAYLIGHT
BEGIN:STANDARD
TZOFFSETFROM:-0400
TZOFFSETTO:-0500
TZNAME:EST
DTSTART:20221106T060000
END:STANDARD
BEGIN:DAYLIGHT
TZOFFSETFROM:-0500
TZOFFSETTO:-0400
TZNAME:EDT
DTSTART:20230312T070000
END:DAYLIGHT
BEGIN:STANDARD
TZOFFSETFROM:-0400
TZOFFSETTO:-0500
TZNAME:EST
DTSTART:20231105T060000
END:STANDARD
END:VTIMEZONE
BEGIN:VEVENT
DTSTART;TZID=America/Indiana/Indianapolis:20220617T080000
DTEND;TZID=America/Indiana/Indianapolis:20220619T170000
DTSTAMP:20260420T081449
CREATED:20220506T180829Z
LAST-MODIFIED:20220506T180829Z
UID:4077-1655452800-1655658000@thkofc541.com
SUMMARY:Special Olympics Summer Games
DESCRIPTION:To volunteer to help at the Special Olympics Summer Games please follow the link below: \nhttps://soi2022summergames.my-trs.com/select_registrant_types \nHere are some instructions\, if needed: \nSelect the blue box that says General Volunteer. \nFollow the instructions on the pages and select the job and shift you are interested in.  After you have selected your shifts select Next then either log in if you are a returning volunteer or take the time to create a new account so we can get updated information for our records. \nPlease ensure you make a selection for each required Activity.  Volunteer shift times may vary slightly as adjustments are made to the competition schedule based off of needs and the number of athletes competing.  We will notify you of any shift time changes and will do our best to keep them within a 30-minute window of original shift request. \nThe Knights typically volunteer to help out with the Bocce Ball but feel free to select any volunteer activity that you like.
URL:https://thkofc541.com/event/special-olympics-summer-games/
LOCATION:Indiana State / Rose Hulman
END:VEVENT
END:VCALENDAR