BEGIN:VCALENDAR
VERSION:2.0
PRODID:-//The Knights of Columbus - ECPv6.15.20//NONSGML v1.0//EN
CALSCALE:GREGORIAN
METHOD:PUBLISH
X-ORIGINAL-URL:https://thkofc541.com
X-WR-CALDESC:Events for The Knights of Columbus
REFRESH-INTERVAL;VALUE=DURATION:PT1H
X-Robots-Tag:noindex
X-PUBLISHED-TTL:PT1H
BEGIN:VTIMEZONE
TZID:America/Indiana/Indianapolis
BEGIN:DAYLIGHT
TZOFFSETFROM:-0500
TZOFFSETTO:-0400
TZNAME:EDT
DTSTART:20200308T070000
END:DAYLIGHT
BEGIN:STANDARD
TZOFFSETFROM:-0400
TZOFFSETTO:-0500
TZNAME:EST
DTSTART:20201101T060000
END:STANDARD
BEGIN:DAYLIGHT
TZOFFSETFROM:-0500
TZOFFSETTO:-0400
TZNAME:EDT
DTSTART:20210314T070000
END:DAYLIGHT
BEGIN:STANDARD
TZOFFSETFROM:-0400
TZOFFSETTO:-0500
TZNAME:EST
DTSTART:20211107T060000
END:STANDARD
BEGIN:DAYLIGHT
TZOFFSETFROM:-0500
TZOFFSETTO:-0400
TZNAME:EDT
DTSTART:20220313T070000
END:DAYLIGHT
BEGIN:STANDARD
TZOFFSETFROM:-0400
TZOFFSETTO:-0500
TZNAME:EST
DTSTART:20221106T060000
END:STANDARD
END:VTIMEZONE
BEGIN:VEVENT
DTSTART;TZID=America/Indiana/Indianapolis:20211115T120000
DTEND;TZID=America/Indiana/Indianapolis:20211115T150000
DTSTAMP:20260423T092604
CREATED:20211013T173356Z
LAST-MODIFIED:20211102T130654Z
UID:3895-1636977600-1636988400@thkofc541.com
SUMMARY:Share Your Thanksgiving Barrel Pickup
DESCRIPTION:We’ll be helping Catholic Charities again this year with the Share Your Thanksgiving food drive. Barrels will be placed out on Thursday\, October 28th and picked up on Monday\, November 15th. Those who are able to place or pickup barrels please meet at Catholic Charities FoodBank at 12 noon on the drop off day and at 8 am on the pick up day.
URL:https://thkofc541.com/event/share-your-thanksgiving-barrel-pickup-3/
LOCATION:Catholic Charities\, 14th & Locust\, Terre Haute
END:VEVENT
END:VCALENDAR