BEGIN:VCALENDAR
VERSION:2.0
PRODID:-//The Knights of Columbus - ECPv6.15.20//NONSGML v1.0//EN
CALSCALE:GREGORIAN
METHOD:PUBLISH
X-WR-CALNAME:The Knights of Columbus
X-ORIGINAL-URL:https://thkofc541.com
X-WR-CALDESC:Events for The Knights of Columbus
REFRESH-INTERVAL;VALUE=DURATION:PT1H
X-Robots-Tag:noindex
X-PUBLISHED-TTL:PT1H
BEGIN:VTIMEZONE
TZID:America/Indiana/Indianapolis
BEGIN:DAYLIGHT
TZOFFSETFROM:-0500
TZOFFSETTO:-0400
TZNAME:EDT
DTSTART:20200308T070000
END:DAYLIGHT
BEGIN:STANDARD
TZOFFSETFROM:-0400
TZOFFSETTO:-0500
TZNAME:EST
DTSTART:20201101T060000
END:STANDARD
BEGIN:DAYLIGHT
TZOFFSETFROM:-0500
TZOFFSETTO:-0400
TZNAME:EDT
DTSTART:20210314T070000
END:DAYLIGHT
BEGIN:STANDARD
TZOFFSETFROM:-0400
TZOFFSETTO:-0500
TZNAME:EST
DTSTART:20211107T060000
END:STANDARD
BEGIN:DAYLIGHT
TZOFFSETFROM:-0500
TZOFFSETTO:-0400
TZNAME:EDT
DTSTART:20220313T070000
END:DAYLIGHT
BEGIN:STANDARD
TZOFFSETFROM:-0400
TZOFFSETTO:-0500
TZNAME:EST
DTSTART:20221106T060000
END:STANDARD
END:VTIMEZONE
BEGIN:VEVENT
DTSTART;TZID=America/Indiana/Indianapolis:20211102T190000
DTEND;TZID=America/Indiana/Indianapolis:20211102T200000
DTSTAMP:20260421T132424
CREATED:20211012T143730Z
LAST-MODIFIED:20211012T143730Z
UID:3876-1635879600-1635883200@thkofc541.com
SUMMARY:Mass of Remembrance - St. Benedict
DESCRIPTION:4th Degree Knights are needed to escort families at the Mass of Remembrance on Tuesday\, November 2nd at St. Benedict Parish. Dress is either tuxedo or dark suit\, social baldric and white gloves.
URL:https://thkofc541.com/event/mass-of-remembrance-st-benedict/
LOCATION:St. Benedict’s\, 111 South 9th Street\, Terre Haute\, IN\, 47807\, United States
END:VEVENT
BEGIN:VEVENT
DTSTART;TZID=America/Indiana/Indianapolis:20211102T190000
DTEND;TZID=America/Indiana/Indianapolis:20211102T200000
DTSTAMP:20260421T132424
CREATED:20211012T143830Z
LAST-MODIFIED:20211012T143830Z
UID:3878-1635879600-1635883200@thkofc541.com
SUMMARY:Mass of Remembrance - St. Joseph University Parish
DESCRIPTION:4th Degree Knights are needed to escort families at the Mass of Remembrance on Tuesday\, November 2nd at St. Joseph University Parish. Dress is either tuxedo or dark suit\, social baldric and white gloves.
URL:https://thkofc541.com/event/mass-of-remembrance-st-joseph-university-parish/
LOCATION:St. Joseph University Parish
END:VEVENT
END:VCALENDAR