BEGIN:VCALENDAR
VERSION:2.0
PRODID:-//The Knights of Columbus - ECPv6.15.20//NONSGML v1.0//EN
CALSCALE:GREGORIAN
METHOD:PUBLISH
X-ORIGINAL-URL:https://thkofc541.com
X-WR-CALDESC:Events for The Knights of Columbus
REFRESH-INTERVAL;VALUE=DURATION:PT1H
X-Robots-Tag:noindex
X-PUBLISHED-TTL:PT1H
BEGIN:VTIMEZONE
TZID:America/Indiana/Indianapolis
BEGIN:DAYLIGHT
TZOFFSETFROM:-0500
TZOFFSETTO:-0400
TZNAME:EDT
DTSTART:20200308T070000
END:DAYLIGHT
BEGIN:STANDARD
TZOFFSETFROM:-0400
TZOFFSETTO:-0500
TZNAME:EST
DTSTART:20201101T060000
END:STANDARD
BEGIN:DAYLIGHT
TZOFFSETFROM:-0500
TZOFFSETTO:-0400
TZNAME:EDT
DTSTART:20210314T070000
END:DAYLIGHT
BEGIN:STANDARD
TZOFFSETFROM:-0400
TZOFFSETTO:-0500
TZNAME:EST
DTSTART:20211107T060000
END:STANDARD
BEGIN:DAYLIGHT
TZOFFSETFROM:-0500
TZOFFSETTO:-0400
TZNAME:EDT
DTSTART:20220313T070000
END:DAYLIGHT
BEGIN:STANDARD
TZOFFSETFROM:-0400
TZOFFSETTO:-0500
TZNAME:EST
DTSTART:20221106T060000
END:STANDARD
END:VTIMEZONE
BEGIN:VEVENT
DTSTART;TZID=America/Indiana/Indianapolis:20211003T140000
DTEND;TZID=America/Indiana/Indianapolis:20211003T153000
DTSTAMP:20260423T092559
CREATED:20210830T123358Z
LAST-MODIFIED:20210830T123358Z
UID:3835-1633269600-1633275000@thkofc541.com
SUMMARY:Terre Haute Life Chain
DESCRIPTION:Join the 34th NATIONAL LIFE CHAIN! \n Stand with thousands of pro-lifers throughout the USA!\nYou’ll be a light in a darkened world as you help put an end to abortion through prayer! \n Bring your whole family! Rain or shine! \n Water\, lawn chairs\, umbrellas and strollers are welcome! \n Signs proclaim “Abortion Kills Children\,” “Adoption the Loving Option\,” “Jesus Forgives & Heals\,” “Lord\, Forgive Us and Our Nation\,” “Abortion Hurts Women\,” “El Aborto Mata Ninos\,” “Life – the first Inalienable Right” and “Pray to End Abortion” \n Meet and Park behind Vigo County Court House. \n Stand 25-30 feet apart. Do not park in front of an open business. See www.LifeChain.org for approximately 2000 locations in 1600 cities and towns across the United States and Canada.
URL:https://thkofc541.com/event/terre-haute-life-chain-2/
LOCATION:Vigo County Courthouse
END:VEVENT
END:VCALENDAR