BEGIN:VCALENDAR
VERSION:2.0
PRODID:-//The Knights of Columbus - ECPv6.15.20//NONSGML v1.0//EN
CALSCALE:GREGORIAN
METHOD:PUBLISH
X-WR-CALNAME:The Knights of Columbus
X-ORIGINAL-URL:https://thkofc541.com
X-WR-CALDESC:Events for The Knights of Columbus
REFRESH-INTERVAL;VALUE=DURATION:PT1H
X-Robots-Tag:noindex
X-PUBLISHED-TTL:PT1H
BEGIN:VTIMEZONE
TZID:America/Indiana/Indianapolis
BEGIN:DAYLIGHT
TZOFFSETFROM:-0500
TZOFFSETTO:-0400
TZNAME:EDT
DTSTART:20200308T070000
END:DAYLIGHT
BEGIN:STANDARD
TZOFFSETFROM:-0400
TZOFFSETTO:-0500
TZNAME:EST
DTSTART:20201101T060000
END:STANDARD
BEGIN:DAYLIGHT
TZOFFSETFROM:-0500
TZOFFSETTO:-0400
TZNAME:EDT
DTSTART:20210314T070000
END:DAYLIGHT
BEGIN:STANDARD
TZOFFSETFROM:-0400
TZOFFSETTO:-0500
TZNAME:EST
DTSTART:20211107T060000
END:STANDARD
BEGIN:DAYLIGHT
TZOFFSETFROM:-0500
TZOFFSETTO:-0400
TZNAME:EDT
DTSTART:20220313T070000
END:DAYLIGHT
BEGIN:STANDARD
TZOFFSETFROM:-0400
TZOFFSETTO:-0500
TZNAME:EST
DTSTART:20221106T060000
END:STANDARD
END:VTIMEZONE
BEGIN:VEVENT
DTSTART;TZID=America/Indiana/Indianapolis:20210904T060000
DTEND;TZID=America/Indiana/Indianapolis:20210904T090000
DTSTAMP:20260423T111108
CREATED:20210830T122216Z
LAST-MODIFIED:20210830T122216Z
UID:3819-1630735200-1630746000@thkofc541.com
SUMMARY:St. Margaret Mary Yard Sale Setup
DESCRIPTION:Brother Knights; \nSt. Margaret Mary is requesting help again this year for setup of their annual yard sale.\nSetup dates are Friday\, September 3rd and again on Saturday\, September 4th. Setup time each\nday is an early one – 6 am\, so all of your early riser come on out and help us serve one of\nthe parishes we support. \nVivat Jesus! \nBret Ridgway\nGrand Knight
URL:https://thkofc541.com/event/st-margaret-mary-yard-sale-setup-3/
LOCATION:St. Margaret Mary
END:VEVENT
END:VCALENDAR