BEGIN:VCALENDAR
VERSION:2.0
PRODID:-//The Knights of Columbus - ECPv6.15.20//NONSGML v1.0//EN
CALSCALE:GREGORIAN
METHOD:PUBLISH
X-ORIGINAL-URL:https://thkofc541.com
X-WR-CALDESC:Events for The Knights of Columbus
REFRESH-INTERVAL;VALUE=DURATION:PT1H
X-Robots-Tag:noindex
X-PUBLISHED-TTL:PT1H
BEGIN:VTIMEZONE
TZID:America/Indiana/Indianapolis
BEGIN:DAYLIGHT
TZOFFSETFROM:-0500
TZOFFSETTO:-0400
TZNAME:EDT
DTSTART:20200308T070000
END:DAYLIGHT
BEGIN:STANDARD
TZOFFSETFROM:-0400
TZOFFSETTO:-0500
TZNAME:EST
DTSTART:20201101T060000
END:STANDARD
BEGIN:DAYLIGHT
TZOFFSETFROM:-0500
TZOFFSETTO:-0400
TZNAME:EDT
DTSTART:20210314T070000
END:DAYLIGHT
BEGIN:STANDARD
TZOFFSETFROM:-0400
TZOFFSETTO:-0500
TZNAME:EST
DTSTART:20211107T060000
END:STANDARD
BEGIN:DAYLIGHT
TZOFFSETFROM:-0500
TZOFFSETTO:-0400
TZNAME:EDT
DTSTART:20220313T070000
END:DAYLIGHT
BEGIN:STANDARD
TZOFFSETFROM:-0400
TZOFFSETTO:-0500
TZNAME:EST
DTSTART:20221106T060000
END:STANDARD
END:VTIMEZONE
BEGIN:VEVENT
DTSTART;TZID=America/Indiana/Indianapolis:20210807T090000
DTEND;TZID=America/Indiana/Indianapolis:20210807T120000
DTSTAMP:20260423T122916
CREATED:20210726T124455Z
LAST-MODIFIED:20210726T124455Z
UID:3812-1628326800-1628337600@thkofc541.com
SUMMARY:Meet and Greet Workday for Father Ben
DESCRIPTION:Brother Knights; \nThe new priest for St. Patrick and St. Margaret Mary\, Father Ben\, has asked\nfor our help with a few small projects around the Rectory. So\, here’s your\nchance to meet our new priest and help him out at the same time. \nSo\, we’ve scheduled a Meet and Greet workday with Father Ben on Saturday\,\nAugust 7th at the St. Margaret Mary Rectory on South 7th Street from 9 am\ntill noon that day. \nSome of the projects include: \n– Removing an old garden\n= Moving some book shelves\n– Removal of old wallpaper and wall painting \nPlease step up to welcome the newest member of our Terre Haute Catholic\nCommunity that day. Please respond to this message if you’re able to help\nso I have an idea of the head count. \nThank you\, \nBret Ridgway\nGrand Knight
URL:https://thkofc541.com/event/meet-and-greet-workday-for-father-ben/
LOCATION:St. Margaret Mary
END:VEVENT
END:VCALENDAR