BEGIN:VCALENDAR
VERSION:2.0
PRODID:-//The Knights of Columbus - ECPv6.15.20//NONSGML v1.0//EN
CALSCALE:GREGORIAN
METHOD:PUBLISH
X-ORIGINAL-URL:https://thkofc541.com
X-WR-CALDESC:Events for The Knights of Columbus
REFRESH-INTERVAL;VALUE=DURATION:PT1H
X-Robots-Tag:noindex
X-PUBLISHED-TTL:PT1H
BEGIN:VTIMEZONE
TZID:America/Indiana/Indianapolis
BEGIN:DAYLIGHT
TZOFFSETFROM:-0500
TZOFFSETTO:-0400
TZNAME:EDT
DTSTART:20190310T070000
END:DAYLIGHT
BEGIN:STANDARD
TZOFFSETFROM:-0400
TZOFFSETTO:-0500
TZNAME:EST
DTSTART:20191103T060000
END:STANDARD
BEGIN:DAYLIGHT
TZOFFSETFROM:-0500
TZOFFSETTO:-0400
TZNAME:EDT
DTSTART:20200308T070000
END:DAYLIGHT
BEGIN:STANDARD
TZOFFSETFROM:-0400
TZOFFSETTO:-0500
TZNAME:EST
DTSTART:20201101T060000
END:STANDARD
BEGIN:DAYLIGHT
TZOFFSETFROM:-0500
TZOFFSETTO:-0400
TZNAME:EDT
DTSTART:20210314T070000
END:DAYLIGHT
BEGIN:STANDARD
TZOFFSETFROM:-0400
TZOFFSETTO:-0500
TZNAME:EST
DTSTART:20211107T060000
END:STANDARD
END:VTIMEZONE
BEGIN:VEVENT
DTSTART;TZID=America/Indiana/Indianapolis:20201102T190000
DTEND;TZID=America/Indiana/Indianapolis:20201102T210000
DTSTAMP:20260419T204705
CREATED:20191218T181110Z
LAST-MODIFIED:20201028T123103Z
UID:3040-1604343600-1604350800@thkofc541.com
SUMMARY:Business Meeting
DESCRIPTION:The November business meeting will be both in person and available via Zoom. \nTo join us via Zoom: \nhttps://zoom.us/j/95318944716?pwd=bjlkWkp5ZmMrZHkwSS9ySVkyMWt0UT09 \nMeeting ID: 953 1894 4716\nPasscode: 610398
URL:https://thkofc541.com/event/business-meeting-48/
LOCATION:St. Margaret Mary & Via Zoom
END:VEVENT
END:VCALENDAR