BEGIN:VCALENDAR
VERSION:2.0
PRODID:-//The Knights of Columbus - ECPv6.15.20//NONSGML v1.0//EN
CALSCALE:GREGORIAN
METHOD:PUBLISH
X-ORIGINAL-URL:https://thkofc541.com
X-WR-CALDESC:Events for The Knights of Columbus
REFRESH-INTERVAL;VALUE=DURATION:PT1H
X-Robots-Tag:noindex
X-PUBLISHED-TTL:PT1H
BEGIN:VTIMEZONE
TZID:America/Indiana/Indianapolis
BEGIN:DAYLIGHT
TZOFFSETFROM:-0500
TZOFFSETTO:-0400
TZNAME:EDT
DTSTART:20190310T070000
END:DAYLIGHT
BEGIN:STANDARD
TZOFFSETFROM:-0400
TZOFFSETTO:-0500
TZNAME:EST
DTSTART:20191103T060000
END:STANDARD
BEGIN:DAYLIGHT
TZOFFSETFROM:-0500
TZOFFSETTO:-0400
TZNAME:EDT
DTSTART:20200308T070000
END:DAYLIGHT
BEGIN:STANDARD
TZOFFSETFROM:-0400
TZOFFSETTO:-0500
TZNAME:EST
DTSTART:20201101T060000
END:STANDARD
BEGIN:DAYLIGHT
TZOFFSETFROM:-0500
TZOFFSETTO:-0400
TZNAME:EDT
DTSTART:20210314T070000
END:DAYLIGHT
BEGIN:STANDARD
TZOFFSETFROM:-0400
TZOFFSETTO:-0500
TZNAME:EST
DTSTART:20211107T060000
END:STANDARD
END:VTIMEZONE
BEGIN:VEVENT
DTSTART;TZID=America/Indiana/Indianapolis:20201031T163000
DTEND;TZID=America/Indiana/Indianapolis:20201031T190000
DTSTAMP:20260419T192322
CREATED:20201001T185547Z
LAST-MODIFIED:20201001T185547Z
UID:3507-1604161800-1604170800@thkofc541.com
SUMMARY:Trunk or Treat
DESCRIPTION:Knights of Columbus Council 541 in conjuunction with Catholic Charities and Ryves Community Optimist Club will be hosting a Trunk or Treat on Halloween night! We’ll be going from 5-7 pm in the parking lot of the Ryves Youth Center. Knights and “trunks” are needed to help pass out the candy. If you want to fully get into the spirit of things feel free to come in costume no later than 4:30 pm to get setup.
URL:https://thkofc541.com/event/trunk-or-treat/
LOCATION:Ryves Hall
END:VEVENT
END:VCALENDAR