BEGIN:VCALENDAR
VERSION:2.0
PRODID:-//The Knights of Columbus - ECPv6.15.20//NONSGML v1.0//EN
CALSCALE:GREGORIAN
METHOD:PUBLISH
X-ORIGINAL-URL:https://thkofc541.com
X-WR-CALDESC:Events for The Knights of Columbus
REFRESH-INTERVAL;VALUE=DURATION:PT1H
X-Robots-Tag:noindex
X-PUBLISHED-TTL:PT1H
BEGIN:VTIMEZONE
TZID:America/Indiana/Indianapolis
BEGIN:DAYLIGHT
TZOFFSETFROM:-0500
TZOFFSETTO:-0400
TZNAME:EDT
DTSTART:20190310T070000
END:DAYLIGHT
BEGIN:STANDARD
TZOFFSETFROM:-0400
TZOFFSETTO:-0500
TZNAME:EST
DTSTART:20191103T060000
END:STANDARD
BEGIN:DAYLIGHT
TZOFFSETFROM:-0500
TZOFFSETTO:-0400
TZNAME:EDT
DTSTART:20200308T070000
END:DAYLIGHT
BEGIN:STANDARD
TZOFFSETFROM:-0400
TZOFFSETTO:-0500
TZNAME:EST
DTSTART:20201101T060000
END:STANDARD
BEGIN:DAYLIGHT
TZOFFSETFROM:-0500
TZOFFSETTO:-0400
TZNAME:EDT
DTSTART:20210314T070000
END:DAYLIGHT
BEGIN:STANDARD
TZOFFSETFROM:-0400
TZOFFSETTO:-0500
TZNAME:EST
DTSTART:20211107T060000
END:STANDARD
END:VTIMEZONE
BEGIN:VEVENT
DTSTART;TZID=America/Indiana/Indianapolis:20200907T190000
DTEND;TZID=America/Indiana/Indianapolis:20200907T210000
DTSTAMP:20260425T192325
CREATED:20191218T180936Z
LAST-MODIFIED:20200904T112839Z
UID:3036-1599505200-1599512400@thkofc541.com
SUMMARY:Business Meeting
DESCRIPTION:Our September business meeting will be on Monday\, September 7th and will be conducted via Zoom. We are using the same link this month for both the 7 pm Rosary and the 7:30 pm business meeting. \nhttps://zoom.us/j/95318944716?pwd=bjlkWkp5ZmMrZHkwSS9ySVkyMWt0UT09 \nIf you have any agenda items you want to bring up please pass them along to me. \nPeace be with you\, \nBret Ridgway\nGrand Knight
URL:https://thkofc541.com/event/business-meeting-46/
LOCATION:St. Margaret Mary & Via Zoom
END:VEVENT
END:VCALENDAR